BEGIN:VCALENDAR
VERSION:2.0
PRODID:-//Arizona Home Inspectors - ECPv6.7.1//NONSGML v1.0//EN
CALSCALE:GREGORIAN
METHOD:PUBLISH
X-ORIGINAL-URL:https://www.azashi.org
X-WR-CALDESC:Events for Arizona Home Inspectors
REFRESH-INTERVAL;VALUE=DURATION:PT1H
X-Robots-Tag:noindex
X-PUBLISHED-TTL:PT1H
BEGIN:VTIMEZONE
TZID:America/Phoenix
BEGIN:STANDARD
TZOFFSETFROM:-0700
TZOFFSETTO:-0700
TZNAME:MST
DTSTART:20200101T000000
END:STANDARD
END:VTIMEZONE
BEGIN:VEVENT
DTSTART;TZID=America/Phoenix:20201105T183000
DTEND;TZID=America/Phoenix:20201105T203000
DTSTAMP:20260424T123053
CREATED:20200927T175544Z
LAST-MODIFIED:20201010T012832Z
UID:13084-1604601000-1604608200@www.azashi.org
SUMMARY:Free Education: IECC Requirements + Energy Programs (Part 2)
DESCRIPTION:Click Here to View the Flyer\nRegister for free here: https://forms.gle/uLB2pzQ4iuTR576CA \nYou will receive 2 CEU credits for attending this course.  \nDaran Wastchak\, President of Learning Edge\, LLC is offering Arizona ASHI 2 complimentary courses in Building Science and IECC Requirements + Energy Programs. \nThis is is course 2 of 2. \n\nImprove your building knowledge – A stronger understanding of the basics of “building science”\, i.e.\nbuilding details critical to energy efficiency\, comfort\, durability\, and indoor air quality\, along with the\nmost important elements of the International Energy Conservation Code (IECC) will help attendees to\nprovide higher quality inspection findings and reports for home buyers.\nStrengthen your knowledge of the energy code – There are up to seven possible pathways for\nhomebuilders to comply with the energy code. Increase your understanding of the possible pathways\nto more accurately call out when there are code related deficiencies in the homes you inspect.\nGain an understanding of required tests and inspections – Learn which energy efficiency tests &\ninspections are required by code\, how they are performed and who is responsible for completing them.\nBecome more familiar with Energy Efficient Programs – Learn about HERS\, ENERGY STAR\, and LEED\,\nwhat the basic requirements are\, and how they align with the energy codes.\n\nAfter registering with AZ ASHI\, attendees will receive a link to register for the Zoom meeting\, and then\nan email with log-in credentials to join the meeting from any computer and to add to your calendar \nRegister for free here: https://forms.gle/uLB2pzQ4iuTR576CA
URL:https://www.azashi.org/edu-events/free-education-iecc-requirements-energy-programs-part-2/
LOCATION:Zoom
CATEGORIES:Free education
END:VEVENT
BEGIN:VEVENT
DTSTART;TZID=America/Phoenix:20201021T183000
DTEND;TZID=America/Phoenix:20201021T203000
DTSTAMP:20260424T123053
CREATED:20200927T174746Z
LAST-MODIFIED:20201203T005704Z
UID:13065-1603305000-1603312200@www.azashi.org
SUMMARY:Free Education: Building Science Basics (Part 1)
DESCRIPTION:Click Here to View the Flyer\nRegister for free here: https://forms.gle/srxhnpDr5W1mdyQQ8 \nAfter registering with AZ ASHI\, attendees will receive a link to register for the Zoom meeting\, and then\nan email with log-in credentials to join the meeting from any computer and to add to your calendar. \nYou will receive 2 CEU credits for attending this course.  \nDaran Wastchak\, President of Learning Edge\, LLC is offering Arizona ASHI 2 complimentary courses in Building Science and IECC Requirements + Energy Programs. \nThis is is course 1 of 2. \n\nImprove your building knowledge – A stronger understanding of the basics of “building science”\, i.e.\nbuilding details critical to energy efficiency\, comfort\, durability\, and indoor air quality\, along with the\nmost important elements of the International Energy Conservation Code (IECC) will help attendees to\nprovide higher quality inspection findings and reports for home buyers.\nStrengthen your knowledge of the energy code – There are up to seven possible pathways for\nhomebuilders to comply with the energy code. Increase your understanding of the possible pathways\nto more accurately call out when there are code related deficiencies in the homes you inspect.\nGain an understanding of required tests and inspections – Learn which energy efficiency tests &\ninspections are required by code\, how they are performed and who is responsible for completing them.\nBecome more familiar with Energy Efficient Programs – Learn about HERS\, ENERGY STAR\, and LEED\,\nwhat the basic requirements are\, and how they align with the energy codes.\n\n“The class Daran teaches is excellent.  No question\, he is the most knowledgeable speaker we could get on building science\, energy audits\, etc.”  You might run this by Tony and allow him to update or modify\, or just go with this.  Should definitely help drive attendance!” – Tony Hecht\, Arizona ASHI ACI Home Inspector \nAfter registering with AZ ASHI\, attendees will receive a link to register for the Zoom meeting\, and then\nan email with log-in credentials to join the meeting from any computer and to add to your calendar \nRegister for free here: https://forms.gle/QroQssLLFrokx39E9 
URL:https://www.azashi.org/edu-events/free-education-building-science-basics-part-1/
LOCATION:Zoom
CATEGORIES:education,Free education
END:VEVENT
BEGIN:VEVENT
DTSTART;TZID=America/Phoenix:20200602T190000
DTEND;TZID=America/Phoenix:20200602T210000
DTSTAMP:20260424T123053
CREATED:20200526T220653Z
LAST-MODIFIED:20201010T013346Z
UID:12813-1591124400-1591131600@www.azashi.org
SUMMARY:Free Education - A/C & Advanced Electric
DESCRIPTION:Free Virtual Education Session via GoToMeeting.com \nPlease sign up here: \nazashi.org/product/free-virtual-education-a-c-june-2nd-2020/  \nThis will give you CEU credit\, as long as an email address is provided upon checkout. \nSee you then!
URL:https://www.azashi.org/edu-events/free-education-a-c-advanced-electric/
CATEGORIES:Free education
END:VEVENT
BEGIN:VEVENT
DTSTART;TZID=America/Phoenix:20200519T190000
DTEND;TZID=America/Phoenix:20200519T200000
DTSTAMP:20260424T123053
CREATED:20200512T220310Z
LAST-MODIFIED:20201010T014405Z
UID:12815-1589914800-1589918400@www.azashi.org
SUMMARY:Free Virtual Education - Advanced Electrical
DESCRIPTION:Click here to sign on to the education session and receive CEU credits.
URL:https://www.azashi.org/edu-events/free-virtual-education-advanced-electrical/
LOCATION:Online
CATEGORIES:Free education
ORGANIZER;CN="Arizona ASHI":MAILTO:arizonaashi@gmail.com
END:VEVENT
BEGIN:VEVENT
DTSTART;TZID=America/Phoenix:20200303T190000
DTEND;TZID=America/Phoenix:20200303T210000
DTSTAMP:20260424T123053
CREATED:20200229T051600Z
LAST-MODIFIED:20200229T051755Z
UID:12687-1583262000-1583269200@www.azashi.org
SUMMARY:Free education March 3rd in Phoenix Az
DESCRIPTION:The next AZ ASHI Central District Meeting will be held at Denny’s Restaurant at 7000 Mayo Blvd.\, Phoenix\, AZ \nOn March 3rd\, 2020 from 7:00 PM to 9:00 PM. \nBring a non-ASHI inspector as a guest if you like. \nFun Friends and plenty of Education including 2 MRC’s.
URL:https://www.azashi.org/edu-events/free-education-march-3rd-in-phoenix-az/
CATEGORIES:education,Free education
END:VEVENT
END:VCALENDAR