BEGIN:VCALENDAR
VERSION:2.0
PRODID:-//Arizona Home Inspectors - ECPv6.7.1//NONSGML v1.0//EN
CALSCALE:GREGORIAN
METHOD:PUBLISH
X-WR-CALNAME:Arizona Home Inspectors
X-ORIGINAL-URL:https://www.azashi.org
X-WR-CALDESC:Events for Arizona Home Inspectors
REFRESH-INTERVAL;VALUE=DURATION:PT1H
X-Robots-Tag:noindex
X-PUBLISHED-TTL:PT1H
BEGIN:VTIMEZONE
TZID:America/Phoenix
BEGIN:STANDARD
TZOFFSETFROM:-0700
TZOFFSETTO:-0700
TZNAME:MST
DTSTART:20200101T000000
END:STANDARD
END:VTIMEZONE
BEGIN:VEVENT
DTSTART;TZID=America/Phoenix:20210629T190000
DTEND;TZID=America/Phoenix:20210629T210000
DTSTAMP:20260424T122626
CREATED:20210609T211111Z
LAST-MODIFIED:20210609T211111Z
UID:13562-1624993200-1625000400@www.azashi.org
SUMMARY:Online Education: Pools
DESCRIPTION:Visit our shop to learn more and register: https://www.azashi.org/product/online-education-pools-6-29-21/
URL:https://www.azashi.org/edu-events/online-education-pools/
CATEGORIES:education
END:VEVENT
BEGIN:VEVENT
DTSTART;TZID=America/Phoenix:20210525T190000
DTEND;TZID=America/Phoenix:20210525T210000
DTSTAMP:20260424T122626
CREATED:20210330T192502Z
LAST-MODIFIED:20210426T230006Z
UID:13425-1621969200-1621976400@www.azashi.org
SUMMARY:Online Education: Secrets of a Flipper & The Defects They Hide!
DESCRIPTION:
URL:https://www.azashi.org/edu-events/online-education-secrets-of-a-flipper-the-defects-they-hide/
CATEGORIES:education
END:VEVENT
BEGIN:VEVENT
DTSTART;TZID=America/Phoenix:20210323T190000
DTEND;TZID=America/Phoenix:20210323T210000
DTSTAMP:20260424T122626
CREATED:20210305T191424Z
LAST-MODIFIED:20210305T191424Z
UID:13345-1616526000-1616533200@www.azashi.org
SUMMARY:Online Education: Plumbing
DESCRIPTION:Everything you want to know about plumbing (and some things you don’t!)  Join us  Tuesday 3/23. You will receive 2 CEU Credits for attending the entire session. \nTo register you must purchase the course HERE Members get a $10 Discount!! \nLink to our GoTo Meeting Online Sign in will be sent to all purchasers TEN MINUTES BEFORE THE COURSE. Make sure to check your email and login by 7pm. \n 
URL:https://www.azashi.org/edu-events/online-education-plumbing/
CATEGORIES:education
END:VEVENT
BEGIN:VEVENT
DTSTART;TZID=America/Phoenix:20210316T190000
DTEND;TZID=America/Phoenix:20210316T210000
DTSTAMP:20260424T122626
CREATED:20210305T191926Z
LAST-MODIFIED:20210310T214303Z
UID:13347-1615921200-1615928400@www.azashi.org
SUMMARY:Online Education: Electrical Defects and How to Spot Them
DESCRIPTION:Get fantastic reviews\, great rapport and repeat clients! It’s all about how you interact and create great business relationships every time you do an inspection. Get advice\, gain knowledge and walk away feeling confident that the next interaction you have on an inspection will be A+++ \nTo register you must purchase the course HERE      Members receive a $10 Discount! \nSee you there!
URL:https://www.azashi.org/edu-events/online-education-proper-curbside-manner/
CATEGORIES:education
END:VEVENT
BEGIN:VEVENT
DTSTART;TZID=America/Phoenix:20210223T190000
DTEND;TZID=America/Phoenix:20210223T203000
DTSTAMP:20260424T122626
CREATED:20210106T211226Z
LAST-MODIFIED:20210129T174128Z
UID:13170-1614106800-1614112200@www.azashi.org
SUMMARY:Online Education Course: How to Start Your Own Home Inspection Business!
DESCRIPTION:How to Start Your Own Home Inspection Business!Guest Speaker!Bryck GuiborPresident Brick By Bryck / AZASHI TreasurerQ&A with Bryck GuiborJoin us to learn about what it takes to start a home inspection business in Arizona\, get resources\, tips and a Q&A with Bryck Guibor\, owner of Brick By Bryck Home and Building Inspections. \nBryck has been a home inspection business owner for 40 years\, he also served as President of Arizona ASHI. Bryck is a licensed Home Inspector\, licensed General Contractor\, expert in historical homes\, speaker and educator. He is a busy guy! Bryck has a wealth of knowledge about starting and running a successful home inspection business\, you won’t want to miss this special opportunity to sit and chat with him to gain an understanding and confidence to start your home inspection business in 2021! \nThis is a 30 minute course\, plus a 30 minute Q&A session. All participants will also receive a digital packet with information for starting your business in Arizona including the necessary legal forms\, tax information\, overview of fees and resources for setting your business up online. \nTo register\, you must purchase the $25 course and enter your email address! Members receive a $10 Discount! \nPurchase Here!
URL:https://www.azashi.org/edu-events/online-education-course-how-to-start-your-own-home-inspection-business/
CATEGORIES:education
ATTACH;FMTTYPE=image/jpeg:https://www.azashi.org/wp-content/uploads/2021/01/inspection-e1611773606175.jpg
ORGANIZER;CN="Arizona ASHI":MAILTO:arizonaashi@gmail.com
END:VEVENT
BEGIN:VEVENT
DTSTART;TZID=America/Phoenix:20210209T190000
DTEND;TZID=America/Phoenix:20210209T203000
DTSTAMP:20260424T122626
CREATED:20210122T203455Z
LAST-MODIFIED:20210129T173941Z
UID:13197-1612897200-1612902600@www.azashi.org
SUMMARY:Online Education : Aluminum Wiring
DESCRIPTION:Everything you could ever want to know about Aluminum Wiring! Sign up HERE by purchasing the class. \n\nParticipants will receive 2 CEU credits\n$15 for members\, $25 for non-members. Link to purchase: https://www.azashi.org/product/online-education-aluminum-wiring-02-09-21/\nThis will be an online course – you will receive a link via email after your purchase\, before the day of the event.\n\nSee you then! \n 
URL:https://www.azashi.org/edu-events/online-education/
CATEGORIES:education
ATTACH;FMTTYPE=image/jpeg:https://www.azashi.org/wp-content/uploads/2021/01/Aluminum-wiring-2-1.jpg
END:VEVENT
BEGIN:VEVENT
DTSTART;TZID=America/Phoenix:20201202T190000
DTEND;TZID=America/Phoenix:20201202T210000
DTSTAMP:20260424T122626
CREATED:20201113T174614Z
LAST-MODIFIED:20201113T174737Z
UID:13143-1606935600-1606942800@www.azashi.org
SUMMARY:Free Education: Horizontal Cracks in Stem Walls
DESCRIPTION:Free Online Education with Robert K Brown\, The Chief Executive Innovator at Arizona Foundation Solutions. NCFRS\, LEED Ap NRPP \nSign up HERE \nSpace is limited so sign up now! \nAfter you sign up\, you will receive an email with an access link to the course before December 2nd\, which is being hosted on Ring Central. \nLearn why Horizontal Cracks in Stem Walls happen\, what they mean\, and why most repairs fail in a short amount of time. \n\nWhy these problems are more likely to occur over time\nHow micro electrochemical currents doom most repairs to failure\nHow natural geologic processes make these problems worse\nWhy of all the foundation problems\, this one can be the most catastrophic and fast moving.\nExamine the various methods and claims to repair\, their pros and cons and see the advantages of each.\n\nPrepare to learn and be amazed! \nDecember 2 @ 7 PM \nCEU Credits will be given to those who attend!
URL:https://www.azashi.org/edu-events/free-education-horizontal-cracks-in-stem-walls/
CATEGORIES:education
END:VEVENT
BEGIN:VEVENT
DTSTART;TZID=America/Phoenix:20201021T183000
DTEND;TZID=America/Phoenix:20201021T203000
DTSTAMP:20260424T122626
CREATED:20200927T174746Z
LAST-MODIFIED:20201203T005704Z
UID:13065-1603305000-1603312200@www.azashi.org
SUMMARY:Free Education: Building Science Basics (Part 1)
DESCRIPTION:Click Here to View the Flyer\nRegister for free here: https://forms.gle/srxhnpDr5W1mdyQQ8 \nAfter registering with AZ ASHI\, attendees will receive a link to register for the Zoom meeting\, and then\nan email with log-in credentials to join the meeting from any computer and to add to your calendar. \nYou will receive 2 CEU credits for attending this course.  \nDaran Wastchak\, President of Learning Edge\, LLC is offering Arizona ASHI 2 complimentary courses in Building Science and IECC Requirements + Energy Programs. \nThis is is course 1 of 2. \n\nImprove your building knowledge – A stronger understanding of the basics of “building science”\, i.e.\nbuilding details critical to energy efficiency\, comfort\, durability\, and indoor air quality\, along with the\nmost important elements of the International Energy Conservation Code (IECC) will help attendees to\nprovide higher quality inspection findings and reports for home buyers.\nStrengthen your knowledge of the energy code – There are up to seven possible pathways for\nhomebuilders to comply with the energy code. Increase your understanding of the possible pathways\nto more accurately call out when there are code related deficiencies in the homes you inspect.\nGain an understanding of required tests and inspections – Learn which energy efficiency tests &\ninspections are required by code\, how they are performed and who is responsible for completing them.\nBecome more familiar with Energy Efficient Programs – Learn about HERS\, ENERGY STAR\, and LEED\,\nwhat the basic requirements are\, and how they align with the energy codes.\n\n“The class Daran teaches is excellent.  No question\, he is the most knowledgeable speaker we could get on building science\, energy audits\, etc.”  You might run this by Tony and allow him to update or modify\, or just go with this.  Should definitely help drive attendance!” – Tony Hecht\, Arizona ASHI ACI Home Inspector \nAfter registering with AZ ASHI\, attendees will receive a link to register for the Zoom meeting\, and then\nan email with log-in credentials to join the meeting from any computer and to add to your calendar \nRegister for free here: https://forms.gle/QroQssLLFrokx39E9 
URL:https://www.azashi.org/edu-events/free-education-building-science-basics-part-1/
LOCATION:Zoom
CATEGORIES:education,Free education
END:VEVENT
BEGIN:VEVENT
DTSTART;TZID=America/Phoenix:20200303T190000
DTEND;TZID=America/Phoenix:20200303T210000
DTSTAMP:20260424T122626
CREATED:20200229T051600Z
LAST-MODIFIED:20200229T051755Z
UID:12687-1583262000-1583269200@www.azashi.org
SUMMARY:Free education March 3rd in Phoenix Az
DESCRIPTION:The next AZ ASHI Central District Meeting will be held at Denny’s Restaurant at 7000 Mayo Blvd.\, Phoenix\, AZ \nOn March 3rd\, 2020 from 7:00 PM to 9:00 PM. \nBring a non-ASHI inspector as a guest if you like. \nFun Friends and plenty of Education including 2 MRC’s.
URL:https://www.azashi.org/edu-events/free-education-march-3rd-in-phoenix-az/
CATEGORIES:education,Free education
END:VEVENT
END:VCALENDAR